BEGIN:VCALENDAR
VERSION:2.0
PRODID:-//Gujarat Maritime University - ECPv6.15.20//NONSGML v1.0//EN
CALSCALE:GREGORIAN
METHOD:PUBLISH
X-WR-CALNAME:Gujarat Maritime University
X-ORIGINAL-URL:https://gmu.edu.in
X-WR-CALDESC:Events for Gujarat Maritime University
REFRESH-INTERVAL;VALUE=DURATION:PT1H
X-Robots-Tag:noindex
X-PUBLISHED-TTL:PT1H
BEGIN:VTIMEZONE
TZID:UTC
BEGIN:STANDARD
TZOFFSETFROM:+0000
TZOFFSETTO:+0000
TZNAME:UTC
DTSTART:20180101T000000
END:STANDARD
END:VTIMEZONE
BEGIN:VEVENT
DTSTART;VALUE=DATE:20211231
DTEND;VALUE=DATE:20220101
DTSTAMP:20260421T154128
CREATED:20211208T055702Z
LAST-MODIFIED:20241105T101246Z
UID:9982-1640908800-1640995199@gmu.edu.in
SUMMARY:Call for Papers - GMU Journal of Maritime Management
DESCRIPTION:Download
URL:https://gmu.edu.in/event/call-for-papers-gmu-journal-of-maritime-management/
LOCATION:GNLU Campus\, Attalika Avenue Knowledge Corridor\, Koba\, Gandhinagar\, Gandhinagar\, Gujarat\, 382426\, India
ATTACH;FMTTYPE=image/jpeg:https://gmu.edu.in/wp-content/uploads/2021/12/call_for_papers_122021.jpg
END:VEVENT
BEGIN:VEVENT
DTSTART;VALUE=DATE:20211122
DTEND;VALUE=DATE:20211128
DTSTAMP:20260421T154128
CREATED:20211023T090821Z
LAST-MODIFIED:20241105T101233Z
UID:9944-1637539200-1638057599@gmu.edu.in
SUMMARY:GMU Maritime Labour Law Academy – 2021
DESCRIPTION:GMLLA – 2021 Registration for Indian Participants    Registration for Foreign Participants   
URL:https://gmu.edu.in/event/gmu-maritime-labour-law-academy-2021/
LOCATION:Online
ATTACH;FMTTYPE=image/jpeg:https://gmu.edu.in/wp-content/uploads/2021/10/gimml-2021.jpg
END:VEVENT
BEGIN:VEVENT
DTSTART;VALUE=DATE:20210709
DTEND;VALUE=DATE:20210712
DTSTAMP:20260421T154128
CREATED:20210210T053910Z
LAST-MODIFIED:20241105T101317Z
UID:9390-1625788800-1626047999@gmu.edu.in
SUMMARY:GMU-CIArb International Maritime Arbitration Competition – 2021
DESCRIPTION:Registration Form    Moot Rules    Moot Problems in GIMAC Form
URL:https://gmu.edu.in/event/gmu-international-maritime-arbitration-competition-2021/
LOCATION:GNLU Campus\, Attalika Avenue Knowledge Corridor\, Koba\, Gandhinagar\, Gandhinagar\, Gujarat\, 382426\, India
ATTACH;FMTTYPE=image/jpeg:https://gmu.edu.in/wp-content/uploads/2021/02/ONLINE_INVITE_GIMAC_2021.jpg
END:VEVENT
BEGIN:VEVENT
DTSTART;TZID=UTC:20210508T000000
DTEND;TZID=UTC:20210509T235900
DTSTAMP:20260421T154128
CREATED:20210510T044654Z
LAST-MODIFIED:20241105T101336Z
UID:9508-1620432000-1620604740@gmu.edu.in
SUMMARY:Online Yoga Session at Gujarat Maritime University
DESCRIPTION:
URL:https://gmu.edu.in/event/online-yoga-session-at-gujarat-maritime-university/
LOCATION:GNLU Campus\, Attalika Avenue Knowledge Corridor\, Koba\, Gandhinagar\, Gandhinagar\, Gujarat\, 382426\, India
ATTACH;FMTTYPE=image/jpeg:https://gmu.edu.in/wp-content/uploads/2021/05/Yoga_Day_09052021.jpg
END:VEVENT
BEGIN:VEVENT
DTSTART;VALUE=DATE:20210424
DTEND;VALUE=DATE:20210426
DTSTAMP:20260421T154128
CREATED:20210308T080430Z
LAST-MODIFIED:20241105T101341Z
UID:9426-1619222400-1619395199@gmu.edu.in
SUMMARY:GMU CENTRE FOR RESEARCH ON MARITIME LABOUR LAW (GCRMLL)
DESCRIPTION:Conference Brochure
URL:https://gmu.edu.in/event/gmu-centre-for-research-on-maritime-labour-law-gcrmll/
LOCATION:GNLU Campus\, Attalika Avenue Knowledge Corridor\, Koba\, Gandhinagar\, Gandhinagar\, Gujarat\, 382426\, India
ATTACH;FMTTYPE=image/jpeg:https://gmu.edu.in/wp-content/uploads/2021/03/GCRMLL_Final-1.jpg
END:VEVENT
BEGIN:VEVENT
DTSTART;TZID=UTC:20201130T150000
DTEND;TZID=UTC:20201130T163000
DTSTAMP:20260421T154128
CREATED:20201127T123725Z
LAST-MODIFIED:20241105T101327Z
UID:9247-1606748400-1606753800@gmu.edu.in
SUMMARY:Webinar on Peremptory Norms of General International Law
DESCRIPTION:
URL:https://gmu.edu.in/event/webinar-on-peremptory-norms-of-general-international-law/
LOCATION:Gujarat
ATTACH;FMTTYPE=image/jpeg:https://gmu.edu.in/wp-content/uploads/2020/11/WhatsApp-Image-2019-03-04-at-4.24.25-PM.jpeg
END:VEVENT
BEGIN:VEVENT
DTSTART;VALUE=DATE:20200306
DTEND;VALUE=DATE:20200309
DTSTAMP:20260421T154128
CREATED:20191209T091114Z
LAST-MODIFIED:20241105T101357Z
UID:8164-1583452800-1583711999@gmu.edu.in
SUMMARY:GMU International Maritime Arbitration Competition - 2020
DESCRIPTION:Answers to Clarifications   GIMAC Rules and Regulations   GIMAC Proposition \n 
URL:https://gmu.edu.in/event/gmu-international-maritime-arbitration-competition-2020/
LOCATION:GNLU Campus\, Attalika Avenue Knowledge Corridor\, Koba\, Gandhinagar\, Gandhinagar\, Gujarat\, 382426\, India
END:VEVENT
BEGIN:VEVENT
DTSTART;TZID=UTC:20191212T080000
DTEND;TZID=UTC:20191213T170000
DTSTAMP:20260421T154128
CREATED:20191217T071401Z
LAST-MODIFIED:20241105T101332Z
UID:8200-1576137600-1576256400@gmu.edu.in
SUMMARY:GNLU-GMU UNCITRAL RCAP
DESCRIPTION:
URL:https://gmu.edu.in/event/gnlu-gmu-uncitral-rcap/
LOCATION:GNLU Campus\, Attalika Avenue Knowledge Corridor\, Koba\, Gandhinagar\, Gandhinagar\, Gujarat\, 382426\, India
ATTACH;FMTTYPE=image/jpeg:https://gmu.edu.in/wp-content/uploads/2019/12/GNLU-GMU-UNCITRAL-RCAP.jpg
END:VEVENT
END:VCALENDAR