BEGIN:VCALENDAR
VERSION:2.0
PRODID:-//Gujarat Maritime University - ECPv6.15.20//NONSGML v1.0//EN
CALSCALE:GREGORIAN
METHOD:PUBLISH
X-ORIGINAL-URL:https://gmu.edu.in
X-WR-CALDESC:Events for Gujarat Maritime University
REFRESH-INTERVAL;VALUE=DURATION:PT1H
X-Robots-Tag:noindex
X-PUBLISHED-TTL:PT1H
BEGIN:VTIMEZONE
TZID:UTC
BEGIN:STANDARD
TZOFFSETFROM:+0000
TZOFFSETTO:+0000
TZNAME:UTC
DTSTART:20180101T000000
END:STANDARD
END:VTIMEZONE
BEGIN:VEVENT
DTSTART;VALUE=DATE:20221210
DTEND;VALUE=DATE:20221215
DTSTAMP:20260421T140048
CREATED:20221130T111826Z
LAST-MODIFIED:20241105T073336Z
UID:11017-1670630400-1671062399@gmu.edu.in
SUMMARY:Certificate Course On Integrated Maritime Security & National Governance
DESCRIPTION:Registration Link Brochure
URL:https://gmu.edu.in/event/certificate-course-on-integrated-maritime-security-national-governance/
LOCATION:GMU\, Transitory Campus\, Gujarat National Law University\,\, Attalika Avenue Knowledge Corridor\, PDPU Rd\, Koba\, Gujarat 382421\, Gujarat\, 382421\, India
ATTACH;FMTTYPE=image/jpeg:https://gmu.edu.in/wp-content/uploads/2022/11/brochure_11302022.jpg
END:VEVENT
BEGIN:VEVENT
DTSTART;VALUE=DATE:20221014
DTEND;VALUE=DATE:20221017
DTSTAMP:20260421T140048
CREATED:20221001T101308Z
LAST-MODIFIED:20241105T073040Z
UID:10737-1665705600-1665964799@gmu.edu.in
SUMMARY:Three Days Workshop on Public International Law
DESCRIPTION:Registration Link Brochure\n\n\n\nLast Date for Registration: 10 Oct 2022 \nPlease contact Mr. Jignesh at +91 8511188715 for paid accommodation at GNLU guest house. Accommodation is subject to availability.
URL:https://gmu.edu.in/event/three-days-workshop-on-public-international-law/
LOCATION:GMU\, Transitory Campus\, Gujarat National Law University\,\, Attalika Avenue Knowledge Corridor\, PDPU Rd\, Koba\, Gujarat 382421\, Gujarat\, 382421\, India
ATTACH;FMTTYPE=image/jpeg:https://gmu.edu.in/wp-content/uploads/2022/10/Public-International-Law-Webinar-Brochure-5.jpg
END:VEVENT
BEGIN:VEVENT
DTSTART;VALUE=DATE:20221003
DTEND;VALUE=DATE:20221010
DTSTAMP:20260421T140048
CREATED:20221001T055938Z
LAST-MODIFIED:20241105T073353Z
UID:10728-1664755200-1665359999@gmu.edu.in
SUMMARY:Second  Edition of Training Programme on International Maritime Law
DESCRIPTION:Registration Link Brochure
URL:https://gmu.edu.in/event/second-edition-of-training-programme-on-international-maritime-law/
LOCATION:Online
ATTACH;FMTTYPE=image/jpeg:https://gmu.edu.in/wp-content/uploads/2022/10/SETP-IML-HNBGU.jpg
END:VEVENT
BEGIN:VEVENT
DTSTART;TZID=UTC:20220625T140000
DTEND;TZID=UTC:20220625T160000
DTSTAMP:20260421T140048
CREATED:20220623T060347Z
LAST-MODIFIED:20241105T073341Z
UID:10553-1656165600-1656172800@gmu.edu.in
SUMMARY:Panel Discussion on Assessment of Legal regime for protecting abandoned Seafarers
DESCRIPTION:Registration Link Brochure
URL:https://gmu.edu.in/event/panel-discussion-on-assessment-of-legal-regime-for-protecting-abandoned-seafarers/
LOCATION:GNLU Campus\, Attalika Avenue Knowledge Corridor\, Koba\, Gandhinagar\, Gandhinagar\, Gujarat\, 382426\, India
ATTACH;FMTTYPE=image/png:https://gmu.edu.in/wp-content/uploads/2022/06/Brochure_Seafarers_Day.png
END:VEVENT
BEGIN:VEVENT
DTSTART;VALUE=DATE:20220625
DTEND;VALUE=DATE:20220627
DTSTAMP:20260421T140048
CREATED:20220617T092831Z
LAST-MODIFIED:20241105T073347Z
UID:10459-1656115200-1656287999@gmu.edu.in
SUMMARY:Workshop on Research Paper Writing and Publication
DESCRIPTION:Brochure
URL:https://gmu.edu.in/event/workshop-on-research-paper-writing-and-publication/
LOCATION:GNLU Campus\, Attalika Avenue Knowledge Corridor\, Koba\, Gandhinagar\, Gandhinagar\, Gujarat\, 382426\, India
ATTACH;FMTTYPE=image/jpeg:https://gmu.edu.in/wp-content/uploads/2022/06/RPWP_Brochure_17062022.jpg
END:VEVENT
BEGIN:VEVENT
DTSTART;VALUE=DATE:20220509
DTEND;VALUE=DATE:20220515
DTSTAMP:20260421T140048
CREATED:20220419T084203Z
LAST-MODIFIED:20241105T101250Z
UID:10167-1652054400-1652572799@gmu.edu.in
SUMMARY:GMU-Academy on Oceans Law and Policy
DESCRIPTION:Registration Link Brochure
URL:https://gmu.edu.in/event/gmu-academy-on-oceans-law-and-policy/
LOCATION:GNLU Campus\, Attalika Avenue Knowledge Corridor\, Koba\, Gandhinagar\, Gandhinagar\, Gujarat\, 382426\, India
ATTACH;FMTTYPE=image/jpeg:https://gmu.edu.in/wp-content/uploads/2022/04/Academy_on_Oceans_Law_Brochure_Final.jpg
END:VEVENT
BEGIN:VEVENT
DTSTART;VALUE=DATE:20220408
DTEND;VALUE=DATE:20220411
DTSTAMP:20260421T140048
CREATED:20220316T110722Z
LAST-MODIFIED:20241105T101306Z
UID:10068-1649376000-1649635199@gmu.edu.in
SUMMARY:GMU-CIArb (India) International Maritime Competition (GIMAC) - 2022
DESCRIPTION:Registration Form Rules and Regulations Arbitration Rules Moot Problem
URL:https://gmu.edu.in/event/gmu-ciarb-india-international-maritime-competition-gimac-2022/
LOCATION:GNLU Campus\, Attalika Avenue Knowledge Corridor\, Koba\, Gandhinagar\, Gandhinagar\, Gujarat\, 382426\, India
ATTACH;FMTTYPE=image/jpeg:https://gmu.edu.in/wp-content/uploads/2022/03/Invitation_12032022.jpeg
END:VEVENT
BEGIN:VEVENT
DTSTART;VALUE=DATE:20220401
DTEND;VALUE=DATE:20220402
DTSTAMP:20260421T140048
CREATED:20220307T102815Z
LAST-MODIFIED:20241105T101238Z
UID:10123-1648771200-1648857599@gmu.edu.in
SUMMARY:Business Idea Competition 2022 (Gujarat State)
DESCRIPTION:BIC Brochure
URL:https://gmu.edu.in/event/business-idea-competition-2022-gujarat-state/
LOCATION:GNLU Campus\, Attalika Avenue Knowledge Corridor\, Koba\, Gandhinagar\, Gandhinagar\, Gujarat\, 382426\, India
ATTACH;FMTTYPE=image/jpeg:https://gmu.edu.in/wp-content/uploads/2022/03/BIC.jpeg
END:VEVENT
BEGIN:VEVENT
DTSTART;VALUE=DATE:20220321
DTEND;VALUE=DATE:20220326
DTSTAMP:20260421T140048
CREATED:20211209T094519Z
LAST-MODIFIED:20241105T101227Z
UID:10000-1647820800-1648252799@gmu.edu.in
SUMMARY:5 Days Certificate Course on International Maritime law
DESCRIPTION:Brochure
URL:https://gmu.edu.in/event/5-days-certificate-course-on-international-maritime-law/
LOCATION:GNLU Campus\, Attalika Avenue Knowledge Corridor\, Koba\, Gandhinagar\, Gandhinagar\, Gujarat\, 382426\, India
ATTACH;FMTTYPE=image/jpeg:https://gmu.edu.in/wp-content/uploads/2021/12/Brochure-for-Certificate-course-with-KIIT-1.jpg
END:VEVENT
BEGIN:VEVENT
DTSTART;VALUE=DATE:20211231
DTEND;VALUE=DATE:20220101
DTSTAMP:20260421T140048
CREATED:20211208T060833Z
LAST-MODIFIED:20241105T101242Z
UID:9987-1640908800-1640995199@gmu.edu.in
SUMMARY:Call for Papers - GMU Journal on International Maritime Environment (Vol-1)
DESCRIPTION:Download
URL:https://gmu.edu.in/event/call-for-papers-gmu-journal-on-international-maritime-environment-vol-1/
LOCATION:GNLU Campus\, Attalika Avenue Knowledge Corridor\, Koba\, Gandhinagar\, Gandhinagar\, Gujarat\, 382426\, India
ATTACH;FMTTYPE=image/jpeg:https://gmu.edu.in/wp-content/uploads/2021/12/call_for_papers_inter_122021.jpg
END:VEVENT
BEGIN:VEVENT
DTSTART;VALUE=DATE:20211231
DTEND;VALUE=DATE:20220101
DTSTAMP:20260421T140048
CREATED:20211208T055702Z
LAST-MODIFIED:20241105T101246Z
UID:9982-1640908800-1640995199@gmu.edu.in
SUMMARY:Call for Papers - GMU Journal of Maritime Management
DESCRIPTION:Download
URL:https://gmu.edu.in/event/call-for-papers-gmu-journal-of-maritime-management/
LOCATION:GNLU Campus\, Attalika Avenue Knowledge Corridor\, Koba\, Gandhinagar\, Gandhinagar\, Gujarat\, 382426\, India
ATTACH;FMTTYPE=image/jpeg:https://gmu.edu.in/wp-content/uploads/2021/12/call_for_papers_122021.jpg
END:VEVENT
BEGIN:VEVENT
DTSTART;VALUE=DATE:20211122
DTEND;VALUE=DATE:20211128
DTSTAMP:20260421T140048
CREATED:20211023T090821Z
LAST-MODIFIED:20241105T101233Z
UID:9944-1637539200-1638057599@gmu.edu.in
SUMMARY:GMU Maritime Labour Law Academy – 2021
DESCRIPTION:GMLLA – 2021 Registration for Indian Participants    Registration for Foreign Participants   
URL:https://gmu.edu.in/event/gmu-maritime-labour-law-academy-2021/
LOCATION:Online
ATTACH;FMTTYPE=image/jpeg:https://gmu.edu.in/wp-content/uploads/2021/10/gimml-2021.jpg
END:VEVENT
BEGIN:VEVENT
DTSTART;VALUE=DATE:20210709
DTEND;VALUE=DATE:20210712
DTSTAMP:20260421T140048
CREATED:20210210T053910Z
LAST-MODIFIED:20241105T101317Z
UID:9390-1625788800-1626047999@gmu.edu.in
SUMMARY:GMU-CIArb International Maritime Arbitration Competition – 2021
DESCRIPTION:Registration Form    Moot Rules    Moot Problems in GIMAC Form
URL:https://gmu.edu.in/event/gmu-international-maritime-arbitration-competition-2021/
LOCATION:GNLU Campus\, Attalika Avenue Knowledge Corridor\, Koba\, Gandhinagar\, Gandhinagar\, Gujarat\, 382426\, India
ATTACH;FMTTYPE=image/jpeg:https://gmu.edu.in/wp-content/uploads/2021/02/ONLINE_INVITE_GIMAC_2021.jpg
END:VEVENT
BEGIN:VEVENT
DTSTART;TZID=UTC:20210508T000000
DTEND;TZID=UTC:20210509T235900
DTSTAMP:20260421T140048
CREATED:20210510T044654Z
LAST-MODIFIED:20241105T101336Z
UID:9508-1620432000-1620604740@gmu.edu.in
SUMMARY:Online Yoga Session at Gujarat Maritime University
DESCRIPTION:
URL:https://gmu.edu.in/event/online-yoga-session-at-gujarat-maritime-university/
LOCATION:GNLU Campus\, Attalika Avenue Knowledge Corridor\, Koba\, Gandhinagar\, Gandhinagar\, Gujarat\, 382426\, India
ATTACH;FMTTYPE=image/jpeg:https://gmu.edu.in/wp-content/uploads/2021/05/Yoga_Day_09052021.jpg
END:VEVENT
BEGIN:VEVENT
DTSTART;VALUE=DATE:20210424
DTEND;VALUE=DATE:20210426
DTSTAMP:20260421T140048
CREATED:20210308T080430Z
LAST-MODIFIED:20241105T101341Z
UID:9426-1619222400-1619395199@gmu.edu.in
SUMMARY:GMU CENTRE FOR RESEARCH ON MARITIME LABOUR LAW (GCRMLL)
DESCRIPTION:Conference Brochure
URL:https://gmu.edu.in/event/gmu-centre-for-research-on-maritime-labour-law-gcrmll/
LOCATION:GNLU Campus\, Attalika Avenue Knowledge Corridor\, Koba\, Gandhinagar\, Gandhinagar\, Gujarat\, 382426\, India
ATTACH;FMTTYPE=image/jpeg:https://gmu.edu.in/wp-content/uploads/2021/03/GCRMLL_Final-1.jpg
END:VEVENT
BEGIN:VEVENT
DTSTART;TZID=UTC:20201130T150000
DTEND;TZID=UTC:20201130T163000
DTSTAMP:20260421T140048
CREATED:20201127T123725Z
LAST-MODIFIED:20241105T101327Z
UID:9247-1606748400-1606753800@gmu.edu.in
SUMMARY:Webinar on Peremptory Norms of General International Law
DESCRIPTION:
URL:https://gmu.edu.in/event/webinar-on-peremptory-norms-of-general-international-law/
ATTACH;FMTTYPE=image/jpeg:https://gmu.edu.in/wp-content/uploads/2020/11/WhatsApp-Image-2019-03-04-at-4.24.25-PM.jpeg
END:VEVENT
BEGIN:VEVENT
DTSTART;VALUE=DATE:20200306
DTEND;VALUE=DATE:20200309
DTSTAMP:20260421T140048
CREATED:20191209T091114Z
LAST-MODIFIED:20241105T101357Z
UID:8164-1583452800-1583711999@gmu.edu.in
SUMMARY:GMU International Maritime Arbitration Competition - 2020
DESCRIPTION:Answers to Clarifications   GIMAC Rules and Regulations   GIMAC Proposition \n 
URL:https://gmu.edu.in/event/gmu-international-maritime-arbitration-competition-2020/
LOCATION:GNLU Campus\, Attalika Avenue Knowledge Corridor\, Koba\, Gandhinagar\, Gandhinagar\, Gujarat\, 382426\, India
END:VEVENT
BEGIN:VEVENT
DTSTART;TZID=UTC:20191212T080000
DTEND;TZID=UTC:20191213T170000
DTSTAMP:20260421T140048
CREATED:20191217T071401Z
LAST-MODIFIED:20241105T101332Z
UID:8200-1576137600-1576256400@gmu.edu.in
SUMMARY:GNLU-GMU UNCITRAL RCAP
DESCRIPTION:
URL:https://gmu.edu.in/event/gnlu-gmu-uncitral-rcap/
LOCATION:GNLU Campus\, Attalika Avenue Knowledge Corridor\, Koba\, Gandhinagar\, Gandhinagar\, Gujarat\, 382426\, India
ATTACH;FMTTYPE=image/jpeg:https://gmu.edu.in/wp-content/uploads/2019/12/GNLU-GMU-UNCITRAL-RCAP.jpg
END:VEVENT
END:VCALENDAR