BEGIN:VCALENDAR
VERSION:2.0
PRODID:-//Gujarat Maritime University - ECPv6.15.20//NONSGML v1.0//EN
CALSCALE:GREGORIAN
METHOD:PUBLISH
X-WR-CALNAME:Gujarat Maritime University
X-ORIGINAL-URL:https://gmu.edu.in
X-WR-CALDESC:Events for Gujarat Maritime University
REFRESH-INTERVAL;VALUE=DURATION:PT1H
X-Robots-Tag:noindex
X-PUBLISHED-TTL:PT1H
BEGIN:VTIMEZONE
TZID:UTC
BEGIN:STANDARD
TZOFFSETFROM:+0000
TZOFFSETTO:+0000
TZNAME:UTC
DTSTART:20250101T000000
END:STANDARD
END:VTIMEZONE
BEGIN:VEVENT
DTSTART;TZID=UTC:20260425T170000
DTEND;TZID=UTC:20260425T210000
DTSTAMP:20260421T135657
CREATED:20260420T121910Z
LAST-MODIFIED:20260420T121910Z
UID:14028-1777136400-1777150800@gmu.edu.in
SUMMARY:GMU's 1st Alumni Meet
DESCRIPTION:Brochure
URL:https://gmu.edu.in/event/gmu-1st-alumni-meet/
LOCATION:GMU\, Transitory Campus\, Gujarat National Law University\,\, Attalika Avenue Knowledge Corridor\, PDPU Rd\, Koba\, Gujarat 382421\, Gujarat\, 382421\, India
ATTACH;FMTTYPE=image/jpeg:https://gmu.edu.in/wp-content/uploads/2026/04/alumani_meet_event.jpg
END:VEVENT
END:VCALENDAR